BEGIN:VCALENDAR
VERSION:2.0
PRODID:-//ChamberMaster//Event Calendar 2.0//EN
METHOD:PUBLISH
X-PUBLISHED-TTL:P3D
REFRESH-INTERVAL:P3D
CALSCALE:GREGORIAN
BEGIN:VEVENT
DTSTART:20260117T160000Z
DTEND:20260117T210000Z
X-MICROSOFT-CDO-ALLDAYEVENT:FALSE
SUMMARY:MAKE A GAME!
DESCRIPTION:Love playing video games? Dreaming of making your own? MAKE A GAME! is the perfect entry-level program for you! In this hands-on workshop\, you'll learn the basics of designing and coding in Godot\, a free and open-source game engine. For adults and teens ages 14 and up. \n\n\n\nYou must bring your own laptop with Godot pre-installed before the program.\n\n\n\nThis is an all-day program from 10 am-12 pm and 1-3 pm (with a lunch break from 12 - 1 pm). Register on our website.
X-ALT-DESC;FMTTYPE=text/html:Love playing video games? Dreaming of making your own? MAKE A GAME! is the perfect entry-level program for you! In this hands-on workshop\, you&rsquo\;ll learn the basics of designing and coding in Godot\, a free and open-source game engine. For adults and teens ages 14 and up.&nbsp\;<br />\n<br />\nYou must bring your own laptop with Godot pre-installed before the program.<br />\n<br />\nThis is an all-day program from 10 am-12 pm and 1-3 pm (with a lunch break from 12 - 1 pm). Register on our website.
LOCATION:
UID:e.771.5487
SEQUENCE:3
DTSTAMP:20260423T094841Z
URL:https://business.kankakeecountychamber.com/events/details/make-a-game-5487
END:VEVENT

END:VCALENDAR
