BEGIN:VCALENDAR
VERSION:2.0
PRODID:-//ChamberMaster//Event Calendar 2.0//EN
METHOD:PUBLISH
X-PUBLISHED-TTL:P3D
REFRESH-INTERVAL:P3D
CALSCALE:GREGORIAN
BEGIN:VEVENT
DTSTART:20191013T000000Z
DTEND:20191013T030000Z
X-MICROSOFT-CDO-ALLDAYEVENT:FALSE
SUMMARY:Mamma Mia The Musical
DESCRIPTION:ABBA's hits tell the hilarious story of a young woman's search for her birth father. This sunny and funny tale unfolds on a Greek island paradise. On the eve of her wedding\, a daughter's quest to discover the identity of her father brings three men from her mother's past back to the island they last visited 20 years ago. ? The story-telling magic of ABBA's timeless songs propels this enchanting tale of love\, laughter and friendship\, creating an unforgettable show. A talented cast\, non-stop laughs and explosive dance numbers combine to make Mamma Mia! a guaranteed smash hit! A mother. A daughter. Three possible dads. And a trip down the aisle you'll never forget! Lap sitting is not permitted as every person must have their own ticket. No children under 3 will be permitted. ?
X-ALT-DESC;FMTTYPE=text/html:ABBA&#39\;s hits tell the hilarious story of a young woman&#39\;s search for her birth father. This sunny and funny tale unfolds on a Greek island paradise. On the eve of her wedding\, a daughter&#39\;s quest to discover the identity of her father brings three men from her mother&#39\;s past back to the island they last visited 20 years ago. ? The story-telling magic of ABBA&#39\;s timeless songs propels this enchanting tale of love\, laughter and friendship\, creating an unforgettable show. A talented cast\, non-stop laughs and explosive dance numbers combine to make Mamma Mia! a guaranteed smash hit! A mother. A daughter. Three possible dads. And a trip down the aisle you&#39\;ll never forget! Lap sitting is not permitted as every person must have their own ticket. No children under 3 will be permitted. ?
LOCATION:Lincoln Cultural Center 240 Warren Ave Kankakee\, IL 60901
UID:e.771.3018
SEQUENCE:3
DTSTAMP:20260423T003729Z
URL:https://business.kankakeecountychamber.com/events/details/mamma-mia-the-musical-3018
END:VEVENT

END:VCALENDAR
