BEGIN:VCALENDAR
VERSION:2.0
PRODID:-//ChamberMaster//Event Calendar 2.0//EN
METHOD:PUBLISH
X-PUBLISHED-TTL:P3D
REFRESH-INTERVAL:P3D
CALSCALE:GREGORIAN
BEGIN:VEVENT
DTSTART:20200314T180000Z
DTEND:20200314T230000Z
X-MICROSOFT-CDO-ALLDAYEVENT:FALSE
SUMMARY:Manteno St. Baldrick's
DESCRIPTION:As the Irish eyes are turning towards March and St. Patrick's Day\, the Manteno St. Baldrick's event is preparing for its 9th annual head shaving event.  The Manteno event is the area's largest pediatric cancer research fundraiser.  The annual Manteno St. Baldrick's head-shaving event will be held on Saturday\, March 14\, 2020 at 1 P.M at the Manteno Sportsmen's Club.  All proceeds from this event benefit the St. Baldrick's Foundation for Pediatric Cancer Research.  \n\nLocally\, the Manteno St. Baldrick's event has raised over $630\,000 and shaved over 850 heads in its 8 years\, all in the name of curing pediatric cancer.  Paul Mitchell the school Bradley will be on hand to take care of all of the head shaving duties.  The local school provides all of the equipment and brings their community outreach team of students to help the event run smoothly.  \n\nThe day will be filled with the air of a St. Patrick's Day celebration.  There will be music provided by Chicago based DJ Danny "The Core-Bot" Corbett.  Master of Ceremonies\, James Field will be on hand again this year to steer fur flying ship.  There will be raffles\, a cash bar\, and Mia Bella's Pizza truck will be on-site.  The day truly is a St. Patrick's Day Fest fueled with goodwill and cheer for a great cause.\n\nIf you are interested in joining us by shaving your head\, donating\, or providing sponsorship for the event\, you may register at https://www.stbaldricks.org/events/Manteno2020  or you may contact Tony Worsham at mantenostbaldrick@yahoo.com or (815) 954-7326 for more information.  Remember\, you don't have to go bald to help make a difference.  Come join the fun and help #Dfychildhoodcancer!
X-ALT-DESC;FMTTYPE=text/html:<span style="font-family:times new roman\,serif"><span style="font-size:12.0pt">As the Irish eyes are turning towards March and St. Patrick&rsquo\;s Day\, the Manteno St. Baldrick&rsquo\;s event is preparing for its 9<sup>th</sup> annual head shaving event.&nbsp\; The Manteno event is the area&rsquo\;s largest pediatric cancer research fundraiser.&nbsp\; The annual Manteno St. Baldrick&rsquo\;s head-shaving event will be held on Saturday\, March 14\, 2020 at 1 P.M at the Manteno Sportsmen&rsquo\;s Club.&nbsp\; All proceeds from this event benefit the St. Baldrick&rsquo\;s Foundation for Pediatric Cancer Research.&nbsp\; </span></span><br />\n<span style="font-family:times new roman\,serif"><span style="font-size:12.0pt">Locally\, the Manteno St. Baldrick&rsquo\;s event has raised over $630\,000 and shaved over 850 heads in its 8 years\, all in the name of curing pediatric cancer.&nbsp\; Paul Mitchell the school Bradley will be on hand to take care of all of the head shaving duties.&nbsp\; The local school provides all of the equipment and brings their community outreach team of students to help the event run smoothly.&nbsp\; </span></span><br />\n<span style="font-family:times new roman\,serif"><span style="font-size:12.0pt">The day will be filled with the air of a St. Patrick&rsquo\;s Day celebration.&nbsp\; There will be music provided by Chicago based DJ Danny &ldquo\;The Core-Bot&rdquo\; Corbett.&nbsp\; Master of Ceremonies\, James Field will be on hand again this year to steer fur flying ship.&nbsp\; There will be raffles\, a cash bar\, and Mia Bella&rsquo\;s Pizza truck will be on-site.&nbsp\; The day truly is a St. Patrick&rsquo\;s Day Fest fueled with goodwill and cheer for a great cause.</span></span><br />\n<span style="font-family:times new roman\,serif"><span style="font-size:12.0pt">If you are interested in joining us by shaving your head\, donating\, or providing sponsorship for the event\, you may register at </span></span><a href="https://www.stbaldricks.org/events/Manteno2020"><span style="color:blue">https://www.stbaldricks.org/events/Manteno2020</span></a><span style="font-family:times new roman\,serif"><span style="font-size:12.0pt"> &nbsp\;or you may contact Tony Worsham at mantenostbaldrick@yahoo.com or (815) 954-7326 for more information.&nbsp\; Remember\, you don&rsquo\;t have to go bald to help make a difference.&nbsp\; Come join the fun and help #Dfychildhoodcancer!</span></span>
LOCATION:Manteno Sportsmen's Club 851 N. Main St. Manteno\, IL 60950
UID:e.771.3347
SEQUENCE:3
DTSTAMP:20260422T193615Z
URL:https://business.kankakeecountychamber.com/events/details/manteno-st-baldrick-s-3347
END:VEVENT

END:VCALENDAR
