BEGIN:VCALENDAR
VERSION:2.0
PRODID:-//ChamberMaster//Event Calendar 2.0//EN
METHOD:PUBLISH
X-PUBLISHED-TTL:P3D
REFRESH-INTERVAL:P3D
CALSCALE:GREGORIAN
BEGIN:VEVENT
DTSTART;VALUE=DATE:20251201
DTEND;VALUE=DATE:20260201
TRANSP:TRANSPARENT
X-MICROSOFT-CDO-ALLDAYEVENT:TRUE
SUMMARY:March of the Readers: Adult Winter Reading Challenge
DESCRIPTION:Each winter\, as the cold settles in\, a remarkable migration begins... the March of the Readers. The Adult Winter Reading Challenge runs from Monday\, December 1st to Saturday\, January 31st\, and is geared toward readers ages 18 and up. In this challenge\, 60 minutes of reading will earn a ticket. The challenge will cap at 35 hours\, but you are not required to reach 35 hours of reading to participate in the fun! Redeem your earned tickets by entering them into the prize drawing of your choice. There is no limit to how many tickets can be submitted for any given prize. Throughout the challenge\, additional tickets can also be earned for reading milestones\, writing book reviews\, and completing activities.\n\nAll prize winners will be notified at the conclusion of the challenge. No need to wing it. The march begins with a single page. Freeze the day\, readers!
X-ALT-DESC;FMTTYPE=text/html:<p>Each winter\, as the cold settles in\, a remarkable migration begins... the March of the Readers. The Adult Winter Reading Challenge runs from&nbsp\;Monday\, December 1st to Saturday\, January 31st\,&nbsp\;and is geared toward readers&nbsp\;ages 18 and up. In this challenge\, 60 minutes of reading will earn a ticket. The challenge will cap at 35 hours\, but you are not required to reach 35 hours of reading to participate in the fun! Redeem your earned tickets by entering them into the prize drawing of your choice. There is no limit to how many tickets can be submitted for any given prize. Throughout the challenge\, additional tickets can also be earned for reading milestones\, writing book reviews\, and completing activities.</p>\n\n<p>All prize winners will be notified at the conclusion of the challenge. No need to wing it. The march begins with a single page. Freeze the day\, readers!</p>\n
LOCATION:
UID:e.771.5483
SEQUENCE:3
DTSTAMP:20260423T100443Z
URL:https://business.kankakeecountychamber.com/events/details/march-of-the-readers-adult-winter-reading-challenge-5483
END:VEVENT

END:VCALENDAR
