BEGIN:VCALENDAR
VERSION:2.0
PRODID:-//ChamberMaster//Event Calendar 2.0//EN
METHOD:PUBLISH
X-PUBLISHED-TTL:P3D
REFRESH-INTERVAL:P3D
CALSCALE:GREGORIAN
BEGIN:VEVENT
DTSTART:20210630T210000Z
DTEND:20210630T230000Z
X-MICROSOFT-CDO-ALLDAYEVENT:FALSE
SUMMARY:Meet and Greet with Ashley and Kelsey
DESCRIPTION:Come meet Ashley Villarreal\, new Executive Director\, and Kelsey Post\, new Member Services Coordinator.  This event will be held from 4pm-6pm at Grapes & Hops.  Light appetizers will be served\; cash bar will be available.
X-ALT-DESC;FMTTYPE=text/html:Come meet Ashley Villarreal\, new Executive Director\, and Kelsey Post\, new Member Services Coordinator.&nbsp\; This event will be held from 4pm-6pm at Grapes &amp\; Hops.&nbsp\; Light appetizers will be served\; cash bar will be available.&nbsp\;&nbsp\;
LOCATION:
UID:e.771.3658
SEQUENCE:3
DTSTAMP:20260419T212344Z
URL:https://business.kankakeecountychamber.com/events/details/meet-and-greet-with-ashley-and-kelsey-3658
END:VEVENT

END:VCALENDAR
