BEGIN:VCALENDAR
VERSION:2.0
PRODID:-//ChamberMaster//Event Calendar 2.0//EN
METHOD:PUBLISH
X-PUBLISHED-TTL:P3D
REFRESH-INTERVAL:P3D
CALSCALE:GREGORIAN
BEGIN:VEVENT
DTSTART:20190927T124500Z
DTEND:20190927T140000Z
X-MICROSOFT-CDO-ALLDAYEVENT:FALSE
SUMMARY:Mental Health Network RoundTable | Suicide Prevention Panel Discussion
DESCRIPTION:FREE Networking Event for the community to learn about Mental Health and who's-doing-what to respond to the need\, here in Kankakee County!\n\n\n\nThis month will feature a Suicide Prevention Panel Discussion.\n\nWHO SHOULD ATTEND?\n\nResidents\n\nFaith Leaders\n\nEmployers\n\nEducators\n\n1st Responders\n\nService Providers\n\nCivic Officials\n\nMedia\n\nMental Health Providers\n\nTHIS MONTH:\n\n1. Connect Roasters will be with us serving coffee!! Special thanks to all who filled the donation jar to keep our donuts and coffee going.\n\n2. We will feature a Suicide Prevention Discussion panel. In honor of Suicide Prevention awareness\, we want to give opportunity for you to learn more about this growing tragedy. Hear from families who have suffered losses\, parents who advocate for their children's treatment\, and clinical professionals who can educate us on the causes\, warning signs and next steps for finding treatment.
X-ALT-DESC;FMTTYPE=text/html:<div style="margin-left:-15px\; margin-right:-15px">\n<div style="margin-left:-15px\; margin-right:-15px"><a class="tnt-share-link fb" href="https://www.facebook.com/sharer/sharer.php?u=https%3A%2F%2Fwww.daily-journal.com%2Fcalendar%2Fmental-health-roundtable-suicide-discussion-panel%2Fevent_f12092ca-d8f9-11e9-a816-5cb9017befe8.html%3Futm_medium%3Dsocial%26utm_source%3Dfacebook%26utm_campaign%3Duser-share" rel="noopener nofollow" style="color: rgb(34\, 34\, 34)\; box-sizing: border-box\; background-color: transparent\; text-decoration-line: none\; display: block\; white-space: nowrap\; margin-left: 3px\; padding: 0px\; border-left: 0px\;" target="_blank" title="Share on Facebook"><span style="color:rgb(51\, 51\, 51)">FREE Networking Event for the community to learn about Mental Health and who&#39\;s-doing-what to respond to the need\, here in Kankakee County!</span></a></div>\n\n<div style="margin-left:-15px\; margin-right:-15px">\n<div style="margin-left:-15px\; margin-right:-15px">\n<p>This month will feature a Suicide Prevention Panel Discussion.</p>\n\n<p>WHO SHOULD ATTEND?</p>\n\n<p>Residents</p>\n\n<p>Faith Leaders</p>\n\n<p>Employers</p>\n\n<p>Educators</p>\n\n<p>1st Responders</p>\n\n<p>Service Providers</p>\n\n<p>Civic Officials</p>\n\n<p>Media</p>\n\n<p>Mental Health Providers</p>\n\n<p>THIS MONTH:</p>\n\n<p>1. Connect Roasters will be with us serving coffee!! Special thanks to all who filled the donation jar to keep our donuts and coffee going.</p>\n\n<p>2. We will feature a Suicide Prevention Discussion panel. In honor of Suicide Prevention awareness\, we want to give opportunity for you to learn more about this growing tragedy. Hear from families who have suffered losses\, parents who advocate for their children&#39\;s treatment\, and clinical professionals who can educate us on the causes\, warning signs and next steps for finding treatment.</p>\n</div>\n</div>\n</div>\n
LOCATION:Riverside Medical Center | Johnson Lecture Hall (Hospital Basement) 350 N Wall St. Kankakee\, IL 60901
UID:e.771.3001
SEQUENCE:3
DTSTAMP:20260423T020529Z
URL:https://business.kankakeecountychamber.com/events/details/mental-health-network-roundtable-suicide-prevention-panel-discussion-3001
END:VEVENT

END:VCALENDAR
