BEGIN:VCALENDAR
VERSION:2.0
PRODID:-//ChamberMaster//Event Calendar 2.0//EN
METHOD:PUBLISH
X-PUBLISHED-TTL:P3D
REFRESH-INTERVAL:P3D
CALSCALE:GREGORIAN
BEGIN:VEVENT
DTSTART:20210501T150000Z
DTEND:20210501T153000Z
X-MICROSOFT-CDO-ALLDAYEVENT:FALSE
SUMMARY:Midewin National Tallgrass Prairie – Silver Anniversary – Time Capsule Installation - Virtual
DESCRIPTION:For the Midewin National Tallgrass Prairie Silver Anniversary\, a Time Capsule will be installed. Items in the time capsule will provide a sense of what life was like from 1996 to 2021. Volunteer length-of-service pins\, prairie plant seeds\, commemorative buttons and lapel pins and more will be placed in the Time Capsule\, which will remain sealed until 2046. The stone fill used around the capsule below the dirt is crushed bunker concrete from the 811 bunker field. Tune in through Facebook live to be a part of this very special event celebrating 25 years of prairie restoration! For questions\, call 815 423 6370 or email SM.FS.Midewin_RSVP@usda.gov
X-ALT-DESC;FMTTYPE=text/html:For the Midewin National Tallgrass Prairie Silver Anniversary\, a Time Capsule will be installed. Items in the time capsule will provide a sense of what life was like from 1996 to 2021. Volunteer length-of-service pins\, prairie plant seeds\, commemorative buttons and lapel pins and more will be placed in the Time Capsule\, which will remain sealed until 2046. The stone fill used around the capsule below the dirt is crushed bunker concrete from the 811 bunker field. Tune in through Facebook live to be a part of this very special event celebrating 25 years of prairie restoration! For questions\, call 815 423 6370 or email SM.FS.Midewin_RSVP@usda.gov
LOCATION:Virtual - Facebook Live https://www.facebook.com/events/4493850493962603
UID:e.771.3643
SEQUENCE:3
DTSTAMP:20260419T224329Z
URL:https://business.kankakeecountychamber.com/events/details/midewin-national-tallgrass-prairie-silver-anniversary-time-capsule-installation-virtual-3643
END:VEVENT

END:VCALENDAR
