BEGIN:VCALENDAR
VERSION:2.0
PRODID:-//ChamberMaster//Event Calendar 2.0//EN
METHOD:PUBLISH
X-PUBLISHED-TTL:P3D
REFRESH-INTERVAL:P3D
CALSCALE:GREGORIAN
BEGIN:VEVENT
DTSTART:20210422T230000Z
DTEND:20210423T000000Z
X-MICROSOFT-CDO-ALLDAYEVENT:FALSE
SUMMARY:Midewin NTP: 25 Years of Volunteers and Partners - Webinar
DESCRIPTION:Celebrate Midewin NTP's 25th Anniversary on EARTH DAY with a close look at essential pieces in the restoration puzzle: volunteers and partners. To Register 815-423-6370 or SM.FS.Midewin_RSVP@usda.gov
X-ALT-DESC;FMTTYPE=text/html:Celebrate Midewin NTP&#39\;s 25th Anniversary on EARTH DAY with a close look at essential pieces in the restoration puzzle: volunteers and partners. To Register 815-423-6370 or SM.FS.Midewin_RSVP@usda.gov
LOCATION:https://usfs.adobeconnect.com/r9-midewin-500
UID:e.771.3533
SEQUENCE:3
DTSTAMP:20260420T000852Z
URL:https://business.kankakeecountychamber.com/events/details/midewin-ntp-25-years-of-volunteers-and-partners-webinar-3533
END:VEVENT

END:VCALENDAR
