BEGIN:VCALENDAR
VERSION:2.0
PRODID:-//ChamberMaster//Event Calendar 2.0//EN
METHOD:PUBLISH
X-PUBLISHED-TTL:P3D
REFRESH-INTERVAL:P3D
CALSCALE:GREGORIAN
BEGIN:VEVENT
DTSTART:20210303T180000Z
DTEND:20210303T180000Z
X-MICROSOFT-CDO-ALLDAYEVENT:FALSE
SUMMARY:Midewin NTP: Caring For the Land and Serving People - Webinar
DESCRIPTION:Celebrate Midewin NTP's 25th Anniversary on WORLD WILDLIFE DAY with a special focus on some of the USDA Forest Service subject matter experts who have made a difference over the past 25 years. To Register 815-423-6370 or SM.FS.Midewin_RSVP@usda.gov
X-ALT-DESC;FMTTYPE=text/html:Celebrate Midewin NTP&#39\;s 25th Anniversary on WORLD WILDLIFE DAY with a special focus on some of the USDA Forest Service subject matter experts who have made a difference over the past 25 years. To Register 815-423-6370 or SM.FS.Midewin_RSVP@usda.gov
LOCATION:https://usfs.adobeconnect.com/r9-midewin-500
UID:e.771.3532
SEQUENCE:3
DTSTAMP:20260420T014427Z
URL:https://business.kankakeecountychamber.com/events/details/midewin-ntp-caring-for-the-land-and-serving-people-webinar-3532
END:VEVENT

END:VCALENDAR
