BEGIN:VCALENDAR
VERSION:2.0
PRODID:-//ChamberMaster//Event Calendar 2.0//EN
METHOD:PUBLISH
X-PUBLISHED-TTL:P3D
REFRESH-INTERVAL:P3D
CALSCALE:GREGORIAN
BEGIN:VEVENT
DTSTART:20210803T160000Z
DTEND:20210803T163000Z
X-MICROSOFT-CDO-ALLDAYEVENT:FALSE
SUMMARY:Midewin NTP for Kids: Beaver Tales - Virtual
DESCRIPTION:Discover cool facts about these water mammals. Learn about their unique tails\, too! Register: SM.FS.Midewin_RSVP@usda.gov or (815) 423-6370
X-ALT-DESC;FMTTYPE=text/html:Discover cool facts about these water mammals. Learn about their unique tails\, too! Register: SM.FS.Midewin_RSVP@usda.gov or (815) 423-6370
LOCATION:Virtual
UID:e.771.3666
SEQUENCE:3
DTSTAMP:20260419T182406Z
URL:https://business.kankakeecountychamber.com/events/details/midewin-ntp-for-kids-beaver-tales-virtual-3666
END:VEVENT

END:VCALENDAR
