BEGIN:VCALENDAR
VERSION:2.0
PRODID:-//ChamberMaster//Event Calendar 2.0//EN
METHOD:PUBLISH
X-PUBLISHED-TTL:P3D
REFRESH-INTERVAL:P3D
CALSCALE:GREGORIAN
BEGIN:VEVENT
DTSTART:20210615T160000Z
DTEND:20210615T163000Z
X-MICROSOFT-CDO-ALLDAYEVENT:FALSE
SUMMARY:Midewin NTP for Kids: Bird's The Word - Virtual
DESCRIPTION:Birds abound at Midewin National Tallgrass Prairie! They are in the prairies\, wetlands\, and woods. Do all birds live in the same habitats? Do they eat the same foods? Come learn about the birds that live at Midewin NTP. Register: SM.FS.Midewin_RSVP@usda.gov or call 815-423-6370
X-ALT-DESC;FMTTYPE=text/html:Birds abound at Midewin National Tallgrass Prairie! They are in the prairies\, wetlands\, and woods. Do all birds live in the same habitats? Do they eat the same foods? Come learn about the birds that live at Midewin NTP. Register: SM.FS.Midewin_RSVP@usda.gov or call 815-423-6370
LOCATION:Virtual
UID:e.771.3640
SEQUENCE:3
DTSTAMP:20260419T212951Z
URL:https://business.kankakeecountychamber.com/events/details/midewin-ntp-for-kids-bird-s-the-word-virtual-3640
END:VEVENT

END:VCALENDAR
