BEGIN:VCALENDAR
VERSION:2.0
PRODID:-//ChamberMaster//Event Calendar 2.0//EN
METHOD:PUBLISH
X-PUBLISHED-TTL:P3D
REFRESH-INTERVAL:P3D
CALSCALE:GREGORIAN
BEGIN:VEVENT
DTSTART:20210727T160000Z
DTEND:20210727T163000Z
X-MICROSOFT-CDO-ALLDAYEVENT:FALSE
SUMMARY:Midewin NTP for Kids: Bison or Buffalo? - Virtual
DESCRIPTION:Do you say bison or do you say buffalo? Which is correct? Find out how much they weigh\, do they need glasses\, and more! Register: SM.FS.Midewin_RSVP@USDA.gov or 815-423-6370
X-ALT-DESC;FMTTYPE=text/html:Do you say bison or do you say buffalo? Which is correct? Find out how much they weigh\, do they need glasses\, and more! Register: SM.FS.Midewin_RSVP@USDA.gov or 815-423-6370
LOCATION:Virtual
UID:e.771.3664
SEQUENCE:3
DTSTAMP:20260419T195025Z
URL:https://business.kankakeecountychamber.com/events/details/midewin-ntp-for-kids-bison-or-buffalo-virtual-3664
END:VEVENT

END:VCALENDAR
