BEGIN:VCALENDAR
VERSION:2.0
PRODID:-//ChamberMaster//Event Calendar 2.0//EN
METHOD:PUBLISH
X-PUBLISHED-TTL:P3D
REFRESH-INTERVAL:P3D
CALSCALE:GREGORIAN
BEGIN:VEVENT
DTSTART:20210706T160000Z
DTEND:20210706T163000Z
X-MICROSOFT-CDO-ALLDAYEVENT:FALSE
SUMMARY:Midewin NTP for Kids: Buzzing about the Prairie - Virtual
DESCRIPTION:Buzz with the bees and learn their dance. Just what is pollination\, and why is it important to us. Come discover why. Register: SM.FS.Midewin_RSVP@usda.gov or (815) 423-6370
X-ALT-DESC;FMTTYPE=text/html:Buzz with the bees and learn their dance. Just what is pollination\, and why is it important to us. Come discover why. Register: SM.FS.Midewin_RSVP@usda.gov or (815) 423-6370
LOCATION:Virtual
UID:e.771.3652
SEQUENCE:3
DTSTAMP:20260419T195111Z
URL:https://business.kankakeecountychamber.com/events/details/midewin-ntp-for-kids-buzzing-about-the-prairie-virtual-3652
END:VEVENT

END:VCALENDAR
