BEGIN:VCALENDAR
VERSION:2.0
PRODID:-//ChamberMaster//Event Calendar 2.0//EN
METHOD:PUBLISH
X-PUBLISHED-TTL:P3D
REFRESH-INTERVAL:P3D
CALSCALE:GREGORIAN
BEGIN:VEVENT
DTSTART:20210722T160000Z
DTEND:20210722T163000Z
X-MICROSOFT-CDO-ALLDAYEVENT:FALSE
SUMMARY:Midewin NTP for Kids: Coyote Call - Virtual
DESCRIPTION:These canines live all around us\, but have you ever seen one? Discover why theses wily coyotes howl at the moon and more! Register: SM.FS.Midewin_RSVP@usda.gov or (815) 423-6370 Photo: Glenn Johnson
X-ALT-DESC;FMTTYPE=text/html:These canines live all around us\, but have you ever seen one? Discover why theses wily coyotes howl at the moon and more! Register: SM.FS.Midewin_RSVP@usda.gov or (815) 423-6370 Photo: Glenn Johnson
LOCATION:Virtual
UID:e.771.3662
SEQUENCE:3
DTSTAMP:20260419T211344Z
URL:https://business.kankakeecountychamber.com/events/details/midewin-ntp-for-kids-coyote-call-virtual-3662
END:VEVENT

END:VCALENDAR
