BEGIN:VCALENDAR
VERSION:2.0
PRODID:-//ChamberMaster//Event Calendar 2.0//EN
METHOD:PUBLISH
X-PUBLISHED-TTL:P3D
REFRESH-INTERVAL:P3D
CALSCALE:GREGORIAN
BEGIN:VEVENT
DTSTART:20210629T160000Z
DTEND:20210629T163000Z
X-MICROSOFT-CDO-ALLDAYEVENT:FALSE
SUMMARY:Midewin NTP for Kids: Crayfish Corner - Virtual
DESCRIPTION:What are crayfish? Learn all about these little crustaceans. Where do they like to live? Discover if they live near you. Register: SM.FS.Midewin_RSVP@usda.gov or (815) 423-6370
X-ALT-DESC;FMTTYPE=text/html:What are crayfish? Learn all about these little crustaceans. Where do they like to live? Discover if they live near you. Register: SM.FS.Midewin_RSVP@usda.gov or (815) 423-6370
LOCATION:Virtual
UID:e.771.3650
SEQUENCE:3
DTSTAMP:20260419T223625Z
URL:https://business.kankakeecountychamber.com/events/details/midewin-ntp-for-kids-crayfish-corner-virtual-3650
END:VEVENT

END:VCALENDAR
