BEGIN:VCALENDAR
VERSION:2.0
PRODID:-//ChamberMaster//Event Calendar 2.0//EN
METHOD:PUBLISH
X-PUBLISHED-TTL:P3D
REFRESH-INTERVAL:P3D
CALSCALE:GREGORIAN
BEGIN:VEVENT
DTSTART:20210617T160000Z
DTEND:20210617T163000Z
X-MICROSOFT-CDO-ALLDAYEVENT:FALSE
SUMMARY:Midewin NTP for Kids: Croakin' Around - Toad or Frog? - Virtual
DESCRIPTION:What's that sound? Is it a frog or toad? Where are their ears? How long can they hold their breath? Learn this and more! Register: SM.FS.Midewin_RSVP@usda.gov (815) 423-6370
X-ALT-DESC;FMTTYPE=text/html:What&rsquo\;s that sound? Is it a frog or toad? Where are their ears? How long can they hold their breath? Learn this and more! Register: SM.FS.Midewin_RSVP@usda.gov (815) 423-6370
LOCATION:Virtual
UID:e.771.3641
SEQUENCE:3
DTSTAMP:20260419T212227Z
URL:https://business.kankakeecountychamber.com/events/details/midewin-ntp-for-kids-croakin-around-toad-or-frog-virtual-3641
END:VEVENT

END:VCALENDAR
