BEGIN:VCALENDAR
VERSION:2.0
PRODID:-//ChamberMaster//Event Calendar 2.0//EN
METHOD:PUBLISH
X-PUBLISHED-TTL:P3D
REFRESH-INTERVAL:P3D
CALSCALE:GREGORIAN
BEGIN:VEVENT
DTSTART:20210715T160000Z
DTEND:20210715T163000Z
X-MICROSOFT-CDO-ALLDAYEVENT:FALSE
SUMMARY:Midewin NTP for Kids: Dragonflies a.k.a. Mosquito Hawks - Virtual
DESCRIPTION:Discover where these fearless super-fliers spend most of their life. Learn the best place to find them & how they love mosquitos. Register: Email SM.FS.Midewin_RSVP@usda.gov or call 815-423-6370
X-ALT-DESC;FMTTYPE=text/html:Discover where these fearless super-fliers spend most of their life. Learn the best place to find them &amp\; how they love mosquitos. Register: Email SM.FS.Midewin_RSVP@usda.gov or call 815-423-6370
LOCATION:Virtual
UID:e.771.3660
SEQUENCE:3
DTSTAMP:20260419T195144Z
URL:https://business.kankakeecountychamber.com/events/details/midewin-ntp-for-kids-dragonflies-a-k-a-mosquito-hawks-virtual-3660
END:VEVENT

END:VCALENDAR
