BEGIN:VCALENDAR
VERSION:2.0
PRODID:-//ChamberMaster//Event Calendar 2.0//EN
METHOD:PUBLISH
X-PUBLISHED-TTL:P3D
REFRESH-INTERVAL:P3D
CALSCALE:GREGORIAN
BEGIN:VEVENT
DTSTART:20210622T160000Z
DTEND:20210622T163000Z
X-MICROSOFT-CDO-ALLDAYEVENT:FALSE
SUMMARY:Midewin NTP for Kids: Fun with Fossils - Virtual
DESCRIPTION:Discover how they were formed and where you might find some! Become a fossil expert! Register: SM.FS.Midewin_RSVP@usda.gov or (815) 423-6370
X-ALT-DESC;FMTTYPE=text/html:Discover how they were formed and where you might find some! Become a fossil expert! Register: SM.FS.Midewin_RSVP@usda.gov or (815) 423-6370
LOCATION:Virtual
UID:e.771.3645
SEQUENCE:3
DTSTAMP:20260419T212912Z
URL:https://business.kankakeecountychamber.com/events/details/midewin-ntp-for-kids-fun-with-fossils-virtual-3645
END:VEVENT

END:VCALENDAR
