BEGIN:VCALENDAR
VERSION:2.0
PRODID:-//ChamberMaster//Event Calendar 2.0//EN
METHOD:PUBLISH
X-PUBLISHED-TTL:P3D
REFRESH-INTERVAL:P3D
CALSCALE:GREGORIAN
BEGIN:VEVENT
DTSTART:20210701T160000Z
DTEND:20210701T163000Z
X-MICROSOFT-CDO-ALLDAYEVENT:FALSE
SUMMARY:Midewin NTP for Kids: Just Batty! - Virtual
DESCRIPTION:They are creatures of the night. They are gentle and shy. They help us\, but do you know how? Come learn with us and find out how bats are some of your most helpful neighbors. Register: SM.FS.Midewin_RSVP@usda.gov or call 815-423-6370
X-ALT-DESC;FMTTYPE=text/html:They are creatures of the night. They are gentle and shy. They help us\, but do you know how? Come learn with us and find out how bats are some of your most helpful neighbors. Register: SM.FS.Midewin_RSVP@usda.gov or call 815-423-6370
LOCATION:Virtual
UID:e.771.3651
SEQUENCE:3
DTSTAMP:20260419T195019Z
URL:https://business.kankakeecountychamber.com/events/details/midewin-ntp-for-kids-just-batty-virtual-3651
END:VEVENT

END:VCALENDAR
