BEGIN:VCALENDAR
VERSION:2.0
PRODID:-//ChamberMaster//Event Calendar 2.0//EN
METHOD:PUBLISH
X-PUBLISHED-TTL:P3D
REFRESH-INTERVAL:P3D
CALSCALE:GREGORIAN
BEGIN:VEVENT
DTSTART:20210708T160000Z
DTEND:20210708T163000Z
X-MICROSOFT-CDO-ALLDAYEVENT:FALSE
SUMMARY:Midewin NTP for Kids: Life of a Butterfly - Virtual
DESCRIPTION:Discover the amazing superhero of our prairie that can METAMORPHOSIZE! What do butterflies do for us and when is the best time to find them? Find this and more out. Register: SM.FS.Midewin_RSVP@usda.gov or (815) 423-6370
X-ALT-DESC;FMTTYPE=text/html:Discover the amazing superhero of our prairie that can METAMORPHOSIZE! What do butterflies do for us and when is the best time to find them? Find this and more out. Register: SM.FS.Midewin_RSVP@usda.gov or (815) 423-6370
LOCATION:Virtual
UID:e.771.3654
SEQUENCE:3
DTSTAMP:20260419T195308Z
URL:https://business.kankakeecountychamber.com/events/details/midewin-ntp-for-kids-life-of-a-butterfly-virtual-3654
END:VEVENT

END:VCALENDAR
