BEGIN:VCALENDAR
VERSION:2.0
PRODID:-//ChamberMaster//Event Calendar 2.0//EN
METHOD:PUBLISH
X-PUBLISHED-TTL:P3D
REFRESH-INTERVAL:P3D
CALSCALE:GREGORIAN
BEGIN:VEVENT
DTSTART:20210720T160000Z
DTEND:20210720T163000Z
X-MICROSOFT-CDO-ALLDAYEVENT:FALSE
SUMMARY:Midewin NTP for Kids: Moth Quest - Virtual
DESCRIPTION:How beautiful are these amazing creatures of the night? Come find out the best way to see these shy creatures. Register: SM.FS.Midewin_RSVP@usda.gov or (815) 423-6370
X-ALT-DESC;FMTTYPE=text/html:How beautiful are these amazing creatures of the night? Come find out the best way to see these shy creatures. Register: SM.FS.Midewin_RSVP@usda.gov or (815) 423-6370
LOCATION:Virtual
UID:e.771.3661
SEQUENCE:3
DTSTAMP:20260419T211138Z
URL:https://business.kankakeecountychamber.com/events/details/midewin-ntp-for-kids-moth-quest-virtual-3661
END:VEVENT

END:VCALENDAR
