BEGIN:VCALENDAR
VERSION:2.0
PRODID:-//ChamberMaster//Event Calendar 2.0//EN
METHOD:PUBLISH
X-PUBLISHED-TTL:P3D
REFRESH-INTERVAL:P3D
CALSCALE:GREGORIAN
BEGIN:VEVENT
DTSTART:20210624T160000Z
DTEND:20210624T163000Z
X-MICROSOFT-CDO-ALLDAYEVENT:FALSE
SUMMARY:Midewin NTP for Kids: Pond Life - Virtual
DESCRIPTION:Uncover an amazing underwater world. Learn about the insects\, amphibians\, and mammals that call the pond their home. Register: SM.FS.Midewin_RSVP@usda.gov or call 815-423-6370
X-ALT-DESC;FMTTYPE=text/html:Uncover an amazing underwater world. Learn about the insects\, amphibians\, and mammals that call the pond their home. Register: SM.FS.Midewin_RSVP@usda.gov or call 815-423-6370
LOCATION:Virtual
UID:e.771.3647
SEQUENCE:3
DTSTAMP:20260419T224139Z
URL:https://business.kankakeecountychamber.com/events/details/midewin-ntp-for-kids-pond-life-virtual-3647
END:VEVENT

END:VCALENDAR
