BEGIN:VCALENDAR
VERSION:2.0
PRODID:-//ChamberMaster//Event Calendar 2.0//EN
METHOD:PUBLISH
X-PUBLISHED-TTL:P3D
REFRESH-INTERVAL:P3D
CALSCALE:GREGORIAN
BEGIN:VEVENT
DTSTART:20210713T160000Z
DTEND:20210713T163000Z
X-MICROSOFT-CDO-ALLDAYEVENT:FALSE
SUMMARY:Midewin NTP for Kids: Prairie Detectives - Virtual
DESCRIPTION:Pull out your magnifying glass & sharpen you detective skills. Discover the amazing animals & plants hidden in plain sight on the prairie. What do you think you can find? Register: 815-423-6370 or e-mail SM.FS.Midewin_RSVP@usda.gov Photo: Delane Strohmeyer
X-ALT-DESC;FMTTYPE=text/html:Pull out your magnifying glass &amp\; sharpen you detective skills. Discover the amazing animals &amp\; plants hidden in plain sight on the prairie. What do you think you can find? Register: 815-423-6370 or e-mail SM.FS.Midewin_RSVP@usda.gov Photo: Delane Strohmeyer
LOCATION:Virtual
UID:e.771.3656
SEQUENCE:3
DTSTAMP:20260419T195112Z
URL:https://business.kankakeecountychamber.com/events/details/midewin-ntp-for-kids-prairie-detectives-virtual-3656
END:VEVENT

END:VCALENDAR
