BEGIN:VCALENDAR
VERSION:2.0
PRODID:-//ChamberMaster//Event Calendar 2.0//EN
METHOD:PUBLISH
X-PUBLISHED-TTL:P3D
REFRESH-INTERVAL:P3D
CALSCALE:GREGORIAN
BEGIN:VEVENT
DTSTART:20210729T160000Z
DTEND:20210729T163000Z
X-MICROSOFT-CDO-ALLDAYEVENT:FALSE
SUMMARY:Midewin NTP for Kids: Prairie Roots - Virtual
DESCRIPTION:Uncover just what makes prairie plants so special. Are their roots taller than you? Come learn how prairie plants adapt to survive the weather of the Illinois. Register: 815-423-6370 or e-mail SM.FS.Midewin_RSVP@usda.gov Photo: Illinois & Michigan Canal Corridor Association
X-ALT-DESC;FMTTYPE=text/html:Uncover just what makes prairie plants so special. Are their roots taller than you? Come learn how prairie plants adapt to survive the weather of the Illinois. Register: 815-423-6370 or e-mail SM.FS.Midewin_RSVP@usda.gov Photo: Illinois &amp\; Michigan Canal Corridor Association
LOCATION:Virtual
UID:e.771.3665
SEQUENCE:3
DTSTAMP:20260419T122456Z
URL:https://business.kankakeecountychamber.com/events/details/midewin-ntp-for-kids-prairie-roots-virtual-3665
END:VEVENT

END:VCALENDAR
