BEGIN:VCALENDAR
VERSION:2.0
PRODID:-//ChamberMaster//Event Calendar 2.0//EN
METHOD:PUBLISH
X-PUBLISHED-TTL:P3D
REFRESH-INTERVAL:P3D
CALSCALE:GREGORIAN
BEGIN:VEVENT
DTSTART:20210805T160000Z
DTEND:20210805T163000Z
X-MICROSOFT-CDO-ALLDAYEVENT:FALSE
SUMMARY:Midewin NTP for Kids: The Skinny on Mammals - Virtual
DESCRIPTION:Learn about the mammals of Illinois that live at Midewin NTP. Register: SM.FS.Midewin_RSVP@usda.gov or (815) 423-6370 USDA FS Photo: Rick Short
X-ALT-DESC;FMTTYPE=text/html:Learn about the mammals of Illinois that live at Midewin NTP. Register: SM.FS.Midewin_RSVP@usda.gov or (815) 423-6370 USDA FS Photo: Rick Short
LOCATION:Virtual
UID:e.771.3667
SEQUENCE:3
DTSTAMP:20260419T195307Z
URL:https://business.kankakeecountychamber.com/events/details/midewin-ntp-for-kids-the-skinny-on-mammals-virtual-3667
END:VEVENT

END:VCALENDAR
