BEGIN:VCALENDAR
VERSION:2.0
PRODID:-//ChamberMaster//Event Calendar 2.0//EN
METHOD:PUBLISH
X-PUBLISHED-TTL:P3D
REFRESH-INTERVAL:P3D
CALSCALE:GREGORIAN
BEGIN:VEVENT
DTSTART:20210710T150000Z
DTEND:20210710T173000Z
X-MICROSOFT-CDO-ALLDAYEVENT:FALSE
SUMMARY:Midewin Prairie 101 (in-person)
DESCRIPTION:What exactly is Midewin National Tallgrass Prairie? Learn about the origins and geography of this very special place. We will view restored wetlands and prairie and observe wildlife. Find out why ecological restoration is so important and experience some of the best examples of restored prairie. Learn how Midewin NTP will change and what that will mean for wildlife and recreation. Register: SM.FS.Midewin_RSVP@usda.gov or 815 423-6370
X-ALT-DESC;FMTTYPE=text/html:What exactly is Midewin National Tallgrass Prairie? Learn about the origins and geography of this very special place. We will view restored wetlands and prairie and observe wildlife. Find out why ecological restoration is so important and experience some of the best examples of restored prairie. Learn how Midewin NTP will change and what that will mean for wildlife and recreation. Register: SM.FS.Midewin_RSVP@usda.gov or 815 423-6370
LOCATION:Midewin National Tallgrass Prairie 30239 S State Route 53 Wilmington\, IL 60481
UID:e.771.3655
SEQUENCE:3
DTSTAMP:20260419T195019Z
URL:https://business.kankakeecountychamber.com/events/details/midewin-prairie-101-in-person-3655
END:VEVENT

END:VCALENDAR
