BEGIN:VCALENDAR
VERSION:2.0
PRODID:-//ChamberMaster//Event Calendar 2.0//EN
METHOD:PUBLISH
X-PUBLISHED-TTL:P3D
REFRESH-INTERVAL:P3D
CALSCALE:GREGORIAN
BEGIN:VEVENT
DTSTART:20210812T000000Z
DTEND:20210812T010000Z
X-MICROSOFT-CDO-ALLDAYEVENT:FALSE
SUMMARY:Midewin Prairie 101 Webinar Part 2
DESCRIPTION:What exactly is Midewin National Tallgrass Prairie? Learn about the origins and geography of this very special place\, during this 2 part webinar series. We will view restored wetlands and prairie and observe wildlife. Find out why ecological restoration is so important and experience some of the best examples of restored prairie. Learn how Midewin NTP will change and what that will mean for wildlife and recreation. Part 2 of 2. Register: SM.FS.Midewin_RSVP@usda.gov or 815 423-6370.
X-ALT-DESC;FMTTYPE=text/html:What exactly is Midewin National Tallgrass Prairie? Learn about the origins and geography of this very special place\, during this 2 part webinar series. We will view restored wetlands and prairie and observe wildlife. Find out why ecological restoration is so important and experience some of the best examples of restored prairie. Learn how Midewin NTP will change and what that will mean for wildlife and recreation. Part 2 of 2. Register: SM.FS.Midewin_RSVP@usda.gov or 815 423-6370.
LOCATION:Virtual
UID:e.771.3670
SEQUENCE:3
DTSTAMP:20260419T182214Z
URL:https://business.kankakeecountychamber.com/events/details/midewin-prairie-101-webinar-part-2-3670
END:VEVENT

END:VCALENDAR
