BEGIN:VCALENDAR
VERSION:2.0
PRODID:-//ChamberMaster//Event Calendar 2.0//EN
METHOD:PUBLISH
X-PUBLISHED-TTL:P3D
REFRESH-INTERVAL:P3D
CALSCALE:GREGORIAN
BEGIN:VEVENT
DTSTART:20260309T153000Z
DTEND:20260309T160000Z
X-MICROSOFT-CDO-ALLDAYEVENT:FALSE
SUMMARY:Morning Story Time
DESCRIPTION:Do you needs a fun morning activity?\n\nBring your favorite plushie and Join us at the library's gazebo on Monday\, March 9 at 10:30 A.M. for a morning storytime!\n\nThis program will also occur on Monday\, March 23.
X-ALT-DESC;FMTTYPE=text/html:<p>Do you needs a fun morning activity?</p>\n\n<p>Bring your favorite plushie and Join us at the library&#39\;s gazebo on Monday\, March 9 at 10:30 A.M. for a morning storytime!</p>\n\n<p>This program will also occur on Monday\, March 23.</p>\n
LOCATION:
UID:e.771.5805
SEQUENCE:3
DTSTAMP:20260419T133527Z
URL:https://business.kankakeecountychamber.com/events/details/morning-story-time-5805
END:VEVENT

END:VCALENDAR
