BEGIN:VCALENDAR
VERSION:2.0
PRODID:-//ChamberMaster//Event Calendar 2.0//EN
METHOD:PUBLISH
X-PUBLISHED-TTL:P3D
REFRESH-INTERVAL:P3D
CALSCALE:GREGORIAN
BEGIN:VEVENT
DTSTART:20191010T233000Z
DTEND:20191011T003000Z
X-MICROSOFT-CDO-ALLDAYEVENT:FALSE
SUMMARY:Motivation: How To Stay Motivated To Follow Your New Lifestyle
DESCRIPTION:We all know how hard it can be to stay positive and motivated during our wellness journey. Sometimes\, hearing how others stay focused and motivated can help us find the right path for ourselves.\n\n\n\nJoin us on Thursday\, October 10 at 6:30pm to discuss what motivates you and what you struggle with. You may even get some new ideas/tips from a fellow IP participant!\n\n\n\nCALL NOW to reserve your seat! 815-304-4665
X-ALT-DESC;FMTTYPE=text/html:<span style="background-color:rgb(255\, 255\, 255)\; color:rgb(29\, 33\, 41)\; font-family:helvetica\,arial\,sans-serif\; font-size:14px">We all know how hard it can be to stay positive and motivated during our wellness journey. Sometimes\, hearing how others stay focused and motivated can help us find the right path for ourselves.<br />\n<br />\nJoin us on Thursday\, October 10 at 6:30pm to discuss what motivates you and what you struggle with. You may even get some new ideas/tips from a fellow IP participant!<br />\n<br />\nCALL NOW to reserve your seat! 815-304-4665</span>
LOCATION:Ideal Solution Weight Loss 805 N. Kennedy Dr. Ste B Kankakee\, IL 60901
UID:e.771.2986
SEQUENCE:3
DTSTAMP:20260423T003857Z
URL:https://business.kankakeecountychamber.com/events/details/motivation-how-to-stay-motivated-to-follow-your-new-lifestyle-2986
END:VEVENT

END:VCALENDAR
