BEGIN:VCALENDAR
VERSION:2.0
PRODID:-//ChamberMaster//Event Calendar 2.0//EN
METHOD:PUBLISH
X-PUBLISHED-TTL:P3D
REFRESH-INTERVAL:P3D
CALSCALE:GREGORIAN
BEGIN:VEVENT
DTSTART:20200216T010000Z
DTEND:20200216T030000Z
X-MICROSOFT-CDO-ALLDAYEVENT:FALSE
SUMMARY:"Murder in the BC Mansion" Mystery Dinner
DESCRIPTION:Your evening begins with appetizers and mingling with guests and cast. The cast are seated among you and a 5-course dinner is served throughout the play. During the meal a murder is committed and it's up to you to figure out WHO DUNIT!
X-ALT-DESC;FMTTYPE=text/html:Your evening begins with appetizers and mingling with guests and cast. The cast are seated among you and a 5-course dinner is served throughout the play. During the meal a murder is committed and it&#39\;s up to you to figure out <strong>WHO DUNIT</strong>!&nbsp\;
LOCATION:The Bennett-Curtis House 302 West Taylor Street Grant Park\, IL 60940
UID:e.771.3094
SEQUENCE:3
DTSTAMP:20260422T194612Z
URL:https://business.kankakeecountychamber.com/events/details/murder-in-the-bc-mansion-mystery-dinner-02-15-2020-3094
END:VEVENT

END:VCALENDAR
