BEGIN:VCALENDAR
VERSION:2.0
PRODID:-//ChamberMaster//Event Calendar 2.0//EN
METHOD:PUBLISH
X-PUBLISHED-TTL:P3D
REFRESH-INTERVAL:P3D
CALSCALE:GREGORIAN
BEGIN:VEVENT
DTSTART:20211031T000000Z
DTEND:20211031T020000Z
X-MICROSOFT-CDO-ALLDAYEVENT:FALSE
SUMMARY:"Murder in the BC Mansion" Mystery Dinner
DESCRIPTION:"Murder in the BC Mansion" Mystery Dinner\n\n			The Bennett-Curtis House is proud to present\n\n			"Murder in the BC Mansion"\n\n			In our 29th smashing season "Murder in the BC Mansion" invites you to take part in a 20s Speakeasy Who Dunit. Your evening begins with appetizers and mingling with guests and cast. The cast are seated amongst you and dinner is served throughout the play. During the meal a murder is committed.\n\n			It's up to YOU to figure out WHO DUNIT!\n\n			Tickets $59.95 per person\n\n			Includes 5 course dinner\, play\, coffee/tea
X-ALT-DESC;FMTTYPE=text/html:<h2 style="text-align:center">&nbsp\;</h2>\n\n<div>\n<table class="wsite-multicol-table" style="border-collapse:collapse\; border:0px !important\; margin:0px !important\; padding:0px !important\; position:relative\; table-layout:fixed\; width:942px">\n	<tbody>\n		<tr>\n			<td style="vertical-align:top\; width:170px">&quot\;Murder in the BC Mansion&quot\; Mystery Dinner<br />\n			The Bennett-Curtis House is proud to present<br />\n			&quot\;Murder in the BC Mansion&quot\;<br />\n			In our 29th smashing season &quot\;Murder in the BC Mansion&quot\; invites you to take part in a 20s Speakeasy Who Dunit. Your evening begins with appetizers and mingling with guests and cast. The cast are seated amongst you and dinner is served throughout the play. During the meal a murder is committed.<br />\n			It&#39\;s up to YOU to figure out WHO DUNIT!<br />\n			Tickets $59.95 per person<br />\n			Includes 5 course dinner\, play\, coffee/tea</td>\n			<td style="vertical-align:top\; width:511px">&nbsp\;</td>\n			<td style="vertical-align:top\; width:171px">&nbsp\;</td>\n		</tr>\n	</tbody>\n</table>\n</div>\n
LOCATION:The Bennett-Curtis House 302 W. Taylor St. Grant Park\, IL 60940
UID:e.771.3688
SEQUENCE:3
DTSTAMP:20260419T164423Z
URL:https://business.kankakeecountychamber.com/events/details/murder-in-the-bc-mansion-mystery-dinner-10-30-2021-3688
END:VEVENT

END:VCALENDAR
