BEGIN:VCALENDAR
VERSION:2.0
PRODID:-//ChamberMaster//Event Calendar 2.0//EN
METHOD:PUBLISH
X-PUBLISHED-TTL:P3D
REFRESH-INTERVAL:P3D
CALSCALE:GREGORIAN
BEGIN:VEVENT
DTSTART:20200315T000000Z
DTEND:20200315T020000Z
X-MICROSOFT-CDO-ALLDAYEVENT:FALSE
SUMMARY:"Murder in the BC Mansion" Mystery Dinner
DESCRIPTION:"Murder in the BC Mansion" Mystery Dinner\n\n\n\n\n\n	\n		\n			\n			 \n			\n			\n			The Bennett-Curtis House is proud to present\n\n			"Murder in the BC Mansion"\n\n			In our 27th smashing season "Murder in the BC Mansion" is a huge hit. Your evening begins with appetizers and mingling with guests and cast. The cast are seated amongst you and dinner is served throughout the play. During the meal a murder is committed. It's up to YOU to figure out WHO DUNIT!\n\n			Tickets $59.95 per person\n\n			Includes 5 course dinner\, play\, coffee/tea\, tax\, & gratuity
X-ALT-DESC;FMTTYPE=text/html:<h2 style="text-align:center">&quot\;Murder in the BC Mansion&quot\; Mystery Dinner</h2>\n\n<div>\n<div>\n<div>\n<table class="wsite-multicol-table" style="border-collapse:collapse\; border:0px !important\; margin:0px !important\; padding:0px !important\; position:relative\; table-layout:fixed\; width:942px">\n	<tbody>\n		<tr>\n			<td style="vertical-align:top\; width:170px">\n			<div>&nbsp\;</div>\n			</td>\n			<td style="vertical-align:top\; width:511px">\n			<div style="text-align:center">The Bennett-Curtis House is proud to present<br />\n			&quot\;Murder in the BC Mansion&quot\;<br />\n			In our 27th smashing season &quot\;Murder in the BC Mansion&quot\; is a huge hit. Your evening begins with appetizers and mingling with guests and cast. The cast are seated amongst you and dinner is served throughout the play. During the meal a murder is committed. It&#39\;s up to YOU to figure out WHO DUNIT!</div>\n\n			<div style="text-align:right">Tickets $59.95 per person<br />\n			Includes 5 course dinner\, play\, coffee/tea\, tax\, &amp\; gratuity</div>\n			</td>\n			<td style="vertical-align:top\; width:171px">&nbsp\;</td>\n		</tr>\n	</tbody>\n</table>\n</div>\n</div>\n</div>\n
LOCATION:The Bennett-Curtis House 302 W. Taylor St. Grant Park\, IL 60940
UID:e.771.2638
SEQUENCE:3
DTSTAMP:20260422T182314Z
URL:https://business.kankakeecountychamber.com/events/details/murder-in-the-bc-mansion-mystery-dinner-2638
END:VEVENT

END:VCALENDAR
