BEGIN:VCALENDAR
VERSION:2.0
PRODID:-//ChamberMaster//Event Calendar 2.0//EN
METHOD:PUBLISH
X-PUBLISHED-TTL:P3D
REFRESH-INTERVAL:P3D
CALSCALE:GREGORIAN
BEGIN:VEVENT
DTSTART:20210130T160000Z
DTEND:20210130T164500Z
X-MICROSOFT-CDO-ALLDAYEVENT:FALSE
SUMMARY:National Seed Swap Day Tea
DESCRIPTION:Garden hats optional! Pour a cup of tea and celebrate National Seed Swap Day and Groundhog Day. We can't be together to exchange seeds\, but we can share ideas and best practices for planting prairie plants at home. What worked well for you last season and what are you planning for this year? We will talk about everything from violets to groundhogs and more. This program will be a VIRTUAL discussion for all ages to learn and share inspiration on National Seed Swap Day. To register: SM.FS.Midewin_RSVP@usda.gov or (815) 423-6370.
X-ALT-DESC;FMTTYPE=text/html:Garden hats optional! Pour a cup of tea and celebrate National Seed Swap Day and Groundhog Day. We can&#39\;t be together to exchange seeds\, but we can share ideas and best practices for planting prairie plants at home. What worked well for you last season and what are you planning for this year? We will talk about everything from violets to groundhogs and more. This program will be a VIRTUAL discussion for all ages to learn and share inspiration on National Seed Swap Day. To register: SM.FS.Midewin_RSVP@usda.gov or (815) 423-6370.
LOCATION:Midewin National Tallgrass Prairie- Virtual
UID:e.771.3590
SEQUENCE:3
DTSTAMP:20260420T043658Z
URL:https://business.kankakeecountychamber.com/events/details/national-seed-swap-day-tea-3590
END:VEVENT

END:VCALENDAR
