BEGIN:VCALENDAR
VERSION:2.0
PRODID:-//ChamberMaster//Event Calendar 2.0//EN
METHOD:PUBLISH
X-PUBLISHED-TTL:P3D
REFRESH-INTERVAL:P3D
CALSCALE:GREGORIAN
BEGIN:VEVENT
DTSTART:20191206T003000Z
DTEND:20191206T013000Z
X-MICROSOFT-CDO-ALLDAYEVENT:FALSE
SUMMARY:Navigating Social Functions & Events During The Holidays
DESCRIPTION:The holidays are upon us and we all know how hard it is to maintain our new found healthy lifestyle during this time of year!\n\n\n\nJoin us on Thursday\, December 5 at 6:30 to learn how you can navigate the holidays successfully to maintain the Ideal Lifestyle!
X-ALT-DESC;FMTTYPE=text/html:<p><span style="color:rgb(29\, 33\, 41)\; font-family:helvetica\,arial\,sans-serif">The holidays are upon us and we all know how hard it is to maintain our new found healthy lifestyle during this time of year!</span></p>\n\n<p><br />\n<span style="color:rgb(29\, 33\, 41)\; font-family:helvetica\,arial\,sans-serif">Join us on Thursday\, December 5 at 6:30 to learn how you can navigate the holidays successfully to maintain the Ideal Lifestyle!</span></p>\n
LOCATION:Ideal Solution Weight Loss 805 N. Kennedy Dr. Ste B Kankakee\, IL 60901
UID:e.771.2989
SEQUENCE:3
DTSTAMP:20260422T221612Z
URL:https://business.kankakeecountychamber.com/events/details/navigating-social-functions-events-during-the-holidays-12-05-2019-2989
END:VEVENT

END:VCALENDAR
