BEGIN:VCALENDAR
VERSION:2.0
PRODID:-//ChamberMaster//Event Calendar 2.0//EN
METHOD:PUBLISH
X-PUBLISHED-TTL:P3D
REFRESH-INTERVAL:P3D
CALSCALE:GREGORIAN
BEGIN:VEVENT
DTSTART:20191115T003000Z
DTEND:20191115T013000Z
X-MICROSOFT-CDO-ALLDAYEVENT:FALSE
SUMMARY:Navigating Social Functions & Events During The Holidays
DESCRIPTION:Enroll with Ideal Solution Weight Loss ANYTIME from October 1   December 31\, 2019 and\n\nreceive 25% off of your "Lifetime Membership"!\n\nSchedule to start your program NOW or schedule to start in January 2020 to prepare for that New Year's Eve Party\, next year's cruise\, or simply to wear those shorts next spring!\n\nDon't let this holiday season determine your health for the next year to come!\nJoin us on Thursday\, November 14 at 6:30 to learn how you can navigate the holidays successfully to maintain the Ideal Lifestyle!
X-ALT-DESC;FMTTYPE=text/html:<p>Enroll with <strong>Ideal Solution Weight Loss</strong> <strong>ANYTIME</strong> from&nbsp\;<strong>October 1 &ndash\; December 31\, 2019 and<br />\nreceive 25% off of your&nbsp\;</strong>&ldquo\;<strong>Lifetime Membership&rdquo\;!</strong></p>\n\n<p><strong>S</strong>chedule to start your program <strong>NOW</strong> or <strong>schedule to start in January 2020</strong> to prepare for that New Year&#39\;s Eve Party\, next year&#39\;s cruise\, or simply to wear those shorts next spring!</p>\n\n<p><strong>Don&#39\;t let this holiday season determine your health for the next year to come!</strong></p>\n<span style="background-color:rgb(255\, 255\, 255)\; color:rgb(29\, 33\, 41)\; font-family:helvetica\,arial\,sans-serif\; font-size:14px">Join us on Thursday\, November 14 at 6:30 to learn how you can navigate the holidays successfully to maintain the Ideal Lifestyle!</span>
LOCATION:Ideal Solution Weight Loss 805 N. Kennedy Dr. Ste B Kankakee\, IL 60901
UID:e.771.2988
SEQUENCE:3
DTSTAMP:20260422T232354Z
URL:https://business.kankakeecountychamber.com/events/details/navigating-social-functions-events-during-the-holidays-2988
END:VEVENT

END:VCALENDAR
