BEGIN:VCALENDAR
VERSION:2.0
PRODID:-//ChamberMaster//Event Calendar 2.0//EN
METHOD:PUBLISH
X-PUBLISHED-TTL:P3D
REFRESH-INTERVAL:P3D
CALSCALE:GREGORIAN
BEGIN:VEVENT
DTSTART:20191112T140000Z
DTEND:20191112T150000Z
X-MICROSOFT-CDO-ALLDAYEVENT:FALSE
SUMMARY:New Member Breakfast
DESCRIPTION:New Member Breakfast hosted by Aqua Illinois Inc.
X-ALT-DESC;FMTTYPE=text/html:New Member Breakfast hosted by Aqua Illinois Inc.
LOCATION:Economic Alliance Board Room 200 E Court St\, Suite 507 Kankakee\, IL 60901
UID:e.771.2979
SEQUENCE:3
DTSTAMP:20260422T232129Z
URL:https://business.kankakeecountychamber.com/events/details/new-member-breakfast-2979
END:VEVENT

END:VCALENDAR
