BEGIN:VCALENDAR
VERSION:2.0
PRODID:-//ChamberMaster//Event Calendar 2.0//EN
METHOD:PUBLISH
X-PUBLISHED-TTL:P3D
REFRESH-INTERVAL:P3D
CALSCALE:GREGORIAN
BEGIN:VEVENT
DTSTART:20200115T140000Z
DTEND:20200115T150000Z
X-MICROSOFT-CDO-ALLDAYEVENT:FALSE
SUMMARY:New Member Breakfast
DESCRIPTION:New Member Breakfast hosted by Peoples Bank in Kankakee!
X-ALT-DESC;FMTTYPE=text/html:New Member Breakfast hosted by Peoples Bank in Kankakee!
LOCATION:333 E Court St\, Kankakee\, IL 60901
UID:e.771.2981
SEQUENCE:3
DTSTAMP:20260422T205140Z
URL:https://business.kankakeecountychamber.com/events/details/new-member-breakfast-2981
END:VEVENT

END:VCALENDAR
