BEGIN:VCALENDAR
VERSION:2.0
PRODID:-//ChamberMaster//Event Calendar 2.0//EN
METHOD:PUBLISH
X-PUBLISHED-TTL:P3D
REFRESH-INTERVAL:P3D
CALSCALE:GREGORIAN
BEGIN:VEVENT
DTSTART:20190929T183000Z
DTEND:20190929T203000Z
X-MICROSOFT-CDO-ALLDAYEVENT:FALSE
SUMMARY:Nue You Salon Ribbon Cutting
DESCRIPTION:Join us for a ribbon cutting at Neu You Salon\, located in the Burfield + Remington building. Help us celebrate this new member of the Chamber! \n\nOpen house from 1:30-3:30pm and ribbon cutting at 2:00pm.
X-ALT-DESC;FMTTYPE=text/html:Join us for a ribbon cutting at Neu You Salon\, located in the Burfield + Remington building. Help us celebrate this new member of the Chamber!&nbsp\;<br>\nOpen house from 1:30-3:30pm and ribbon cutting at 2:00pm.&nbsp\;
LOCATION:150 N Schuyler Ave Kankakee\, IL 60901
UID:e.771.2998
SEQUENCE:3
DTSTAMP:20260423T020647Z
URL:https://business.kankakeecountychamber.com/events/details/nue-you-salon-ribbon-cutting-2998
END:VEVENT

END:VCALENDAR
