BEGIN:VCALENDAR
VERSION:2.0
PRODID:-//ChamberMaster//Event Calendar 2.0//EN
METHOD:PUBLISH
X-PUBLISHED-TTL:P3D
REFRESH-INTERVAL:P3D
CALSCALE:GREGORIAN
BEGIN:VEVENT
DTSTART:20191029T220000Z
DTEND:20191030T010000Z
X-MICROSOFT-CDO-ALLDAYEVENT:FALSE
SUMMARY:Oasis Medical Services Trunk or Treat
DESCRIPTION:IT'S THAT TIME OF YEAR! ?????? Oasis Medical Services is hosting their second annual Trunk or Treat except this year is going to be BIGGER and BETTER! Tuesday\, October 29\, 2019\, Oasis Medical Services will be waiting to see your costumes between the hours of 5:00 pm and 8:00 pm! Will your costume be SPOOKY? Will it be PRETTY? We can't wait to see!
X-ALT-DESC;FMTTYPE=text/html:IT&rsquo\;S THAT TIME OF YEAR! ?????? Oasis Medical Services is hosting their second annual Trunk or Treat except this year is going to be BIGGER and BETTER! Tuesday\, October 29\, 2019\, Oasis Medical Services will be waiting to see your costumes between the hours of 5:00 pm and 8:00 pm! Will your costume be SPOOKY? Will it be PRETTY? We can&rsquo\;t wait to see!
LOCATION:761 Main Street NW\, Suite A Bourbonnais\, IL 60914
UID:e.771.3032
SEQUENCE:3
DTSTAMP:20260423T003821Z
URL:https://business.kankakeecountychamber.com/events/details/oasis-medical-services-trunk-or-treat-3032
END:VEVENT

END:VCALENDAR
