BEGIN:VCALENDAR
VERSION:2.0
PRODID:-//ChamberMaster//Event Calendar 2.0//EN
METHOD:PUBLISH
X-PUBLISHED-TTL:P3D
REFRESH-INTERVAL:P3D
CALSCALE:GREGORIAN
BEGIN:VEVENT
DTSTART:20191024T233000Z
DTEND:20191025T013000Z
X-MICROSOFT-CDO-ALLDAYEVENT:FALSE
SUMMARY:Opening Reception for "The Harvest View"
DESCRIPTION:Opening Reception for "The Harvest View"\, 1st Annual Juried Art Exhibition. Local and regional artists are challenged to create works in their personal interpretation of the celebration of the harvest. Jurors awards and comments 7:00 p.m. Musical Entertainment by The Randy King Duo. Exhibit runs through November 30th. Free to the public
X-ALT-DESC;FMTTYPE=text/html:Opening Reception for &quot\;The Harvest View&quot\;\, 1st Annual Juried Art Exhibition. Local and regional artists are challenged to create works in their personal interpretation of the celebration of the harvest. Jurors awards and comments 7:00 p.m. Musical Entertainment by The Randy King Duo. Exhibit runs through November 30th. Free to the public
LOCATION:Harvest View\, 100 Harvest View Lane\, Herscher\, IL 60941
UID:e.771.3029
SEQUENCE:3
DTSTAMP:20260423T003648Z
URL:https://business.kankakeecountychamber.com/events/details/opening-reception-for-the-harvest-view-3029
END:VEVENT

END:VCALENDAR
