BEGIN:VCALENDAR
VERSION:2.0
PRODID:-//ChamberMaster//Event Calendar 2.0//EN
METHOD:PUBLISH
X-PUBLISHED-TTL:P3D
REFRESH-INTERVAL:P3D
CALSCALE:GREGORIAN
BEGIN:VEVENT
DTSTART:20200229T220000Z
DTEND:20200301T000000Z
X-MICROSOFT-CDO-ALLDAYEVENT:FALSE
SUMMARY:Paint Night
DESCRIPTION:Paint night for All Ages. All materials provided.
X-ALT-DESC;FMTTYPE=text/html:Paint night for All Ages. All materials provided.
LOCATION:Arts Center:Northfield Square Mall near Kansai entrance across from Auntie Anne's. 1600 N st rt 50 Bourbonnais IL 60914
UID:e.771.3337
SEQUENCE:3
DTSTAMP:20260422T194318Z
URL:https://business.kankakeecountychamber.com/events/details/paint-night-3337
END:VEVENT

END:VCALENDAR
