BEGIN:VCALENDAR
VERSION:2.0
PRODID:-//ChamberMaster//Event Calendar 2.0//EN
METHOD:PUBLISH
X-PUBLISHED-TTL:P3D
REFRESH-INTERVAL:P3D
CALSCALE:GREGORIAN
BEGIN:VEVENT
DTSTART:20191116T190000Z
DTEND:20191116T213000Z
X-MICROSOFT-CDO-ALLDAYEVENT:FALSE
SUMMARY:Paint Party
DESCRIPTION:Grab some friends & spend the afternoon creating your one-of-a-kind project with True Grain Wood Design.
X-ALT-DESC;FMTTYPE=text/html:Grab some friends &amp\; spend the afternoon creating your one-of-a-kind project with True Grain Wood Design.
LOCATION:I-KAN Regional Office of Education 1 Stuart Drive Kankakee
UID:e.771.3031
SEQUENCE:3
DTSTAMP:20260422T232606Z
URL:https://business.kankakeecountychamber.com/events/details/paint-party-3031
END:VEVENT

END:VCALENDAR
