BEGIN:VCALENDAR
VERSION:2.0
PRODID:-//ChamberMaster//Event Calendar 2.0//EN
METHOD:PUBLISH
X-PUBLISHED-TTL:P3D
REFRESH-INTERVAL:P3D
CALSCALE:GREGORIAN
BEGIN:VEVENT
DTSTART:20191207T170000Z
DTEND:20191207T190000Z
X-MICROSOFT-CDO-ALLDAYEVENT:FALSE
SUMMARY:Photos with Santa Presented by The Marla Good Team
DESCRIPTION:Join us for Photos with Santa on Saturday\, December 7th from 11am to 1pm at the Keller Williams Preferred Realty office\, 1511 N. Convent St.\, Ste. 800 in Bourbonnais.  Bring the family for a great time together!  Our photographer will be on site to capture the moment for you\, and you can take photos\, too.  Stay to enjoy some seasonal refreshments!  This is a FREE EVENT.
X-ALT-DESC;FMTTYPE=text/html:Join us for Photos with Santa on Saturday\, December 7th from 11am to 1pm at the Keller Williams Preferred Realty office\, 1511 N. Convent St.\, Ste. 800 in Bourbonnais.&nbsp\; Bring the family for a great time together!&nbsp\; Our photographer will be on site to capture the moment for you\, and you can take photos\, too.&nbsp\; Stay to enjoy some seasonal refreshments!&nbsp\; This is a FREE EVENT.
LOCATION:Keller Williams Preferred Realty 1511 N. Convent St.\, Ste. 800 Bourbonnais\, IL 60914
UID:e.771.3038
SEQUENCE:3
DTSTAMP:20260422T222106Z
URL:https://business.kankakeecountychamber.com/events/details/photos-with-santa-presented-by-the-marla-good-team-3038
END:VEVENT

END:VCALENDAR
