BEGIN:VCALENDAR
VERSION:2.0
PRODID:-//ChamberMaster//Event Calendar 2.0//EN
METHOD:PUBLISH
X-PUBLISHED-TTL:P3D
REFRESH-INTERVAL:P3D
CALSCALE:GREGORIAN
BEGIN:VEVENT
DTSTART;VALUE=DATE:20251011
DTEND;VALUE=DATE:20251013
TRANSP:TRANSPARENT
X-MICROSOFT-CDO-ALLDAYEVENT:TRUE
SUMMARY:Pickleball Tournament
DESCRIPTION:We are hosting a Pickleball Tournament for the community. We will be offering three divisions: Men's Open\, Women's Open & Mixed Doubles. Teams will be guaranteed a minimum of 5 games over a minimum of 4 matches! Games will be played on our newly refurbished floors at the YMCA!
X-ALT-DESC;FMTTYPE=text/html:We are hosting a Pickleball Tournament for the community. We will be offering three divisions: Men&#39\;s Open\, Women&#39\;s Open &amp\; Mixed Doubles. Teams will be guaranteed a minimum of 5 games over a minimum of 4 matches! Games will be played on our newly refurbished floors at the YMCA!
LOCATION:Kankakee Area YMCA 1075 N. Kennedy Dr. Kankakee\, Illinois 60901
UID:e.771.5414
SEQUENCE:3
DTSTAMP:20260423T134408Z
URL:https://business.kankakeecountychamber.com/events/details/pickleball-tournament-5414
END:VEVENT

END:VCALENDAR
