BEGIN:VCALENDAR
VERSION:2.0
PRODID:-//ChamberMaster//Event Calendar 2.0//EN
METHOD:PUBLISH
X-PUBLISHED-TTL:P3D
REFRESH-INTERVAL:P3D
CALSCALE:GREGORIAN
BEGIN:VEVENT
DTSTART:20200211T230000Z
DTEND:20200212T013000Z
X-MICROSOFT-CDO-ALLDAYEVENT:FALSE
SUMMARY:Pizza Wars!
DESCRIPTION:The Bradley-Bourbonnais Community High School invites you to join in on the best pizza competition in the county!\n\n\n\nCome HUNGRY!\n\n\n\nFor additional information contact Laurie at 815-937-3707
X-ALT-DESC;FMTTYPE=text/html:The Bradley-Bourbonnais Community High School invites you to join in on the best pizza competition in the county!<br />\n<br />\nCome HUNGRY!<br />\n<br />\nFor additional information contact Laurie at 815-937-3707
LOCATION:BBCHS East Gym 700 W. North Street Bradley\, IL 60915
UID:e.771.3329
SEQUENCE:3
DTSTAMP:20260422T194316Z
URL:https://business.kankakeecountychamber.com/events/details/pizza-wars-3329
END:VEVENT

END:VCALENDAR
