BEGIN:VCALENDAR
VERSION:2.0
PRODID:-//ChamberMaster//Event Calendar 2.0//EN
METHOD:PUBLISH
X-PUBLISHED-TTL:P3D
REFRESH-INTERVAL:P3D
CALSCALE:GREGORIAN
BEGIN:VEVENT
DTSTART:20210520T230000Z
DTEND:20210521T000000Z
X-MICROSOFT-CDO-ALLDAYEVENT:FALSE
SUMMARY:Pollinating America's Prairie: We've Only Just Begun - Webinar
DESCRIPTION:Celebrate Midewin NTP's 25th Anniversary on WORLD BEE DAY and AMERICAN WETLANDS MONTH with a special focus on "pollinating" prairie restoration now and in the future with a look at the roles of Youth Conservation Corps programs and more. To Register 815-423-6370 or SM.FS.Midewin_RSVP@usda.gov
X-ALT-DESC;FMTTYPE=text/html:Celebrate Midewin NTP&#39\;s 25th Anniversary on WORLD BEE DAY and AMERICAN WETLANDS MONTH with a special focus on &ldquo\;pollinating&rdquo\; prairie restoration now and in the future with a look at the roles of Youth Conservation Corps programs and more. To Register 815-423-6370 or SM.FS.Midewin_RSVP@usda.gov
LOCATION:https://usfs.adobeconnect.com/r9-midewin-500
UID:e.771.3534
SEQUENCE:3
DTSTAMP:20260420T000745Z
URL:https://business.kankakeecountychamber.com/events/details/pollinating-america-s-prairie-we-ve-only-just-begun-webinar-3534
END:VEVENT

END:VCALENDAR
