BEGIN:VCALENDAR
VERSION:2.0
PRODID:-//ChamberMaster//Event Calendar 2.0//EN
METHOD:PUBLISH
X-PUBLISHED-TTL:P3D
REFRESH-INTERVAL:P3D
CALSCALE:GREGORIAN
BEGIN:VEVENT
DTSTART:20210623T230000Z
DTEND:20210624T000000Z
X-MICROSOFT-CDO-ALLDAYEVENT:FALSE
SUMMARY:Pollinator Week Program: Increasing Habitat for Monarchs
DESCRIPTION:The USDA estimates that more than 150 food crops in the U.S. depend on pollinators\, including almost all fruit and grain crops. Crops dependent on pollination are worth more than $10 billion per year. Celebrate Pollinator Week and hear about what the Illinois Department of Transportation and the Illinois Route 66 Scenic Byway groups are doing to help increase habitat for monarchs. How can you get involved? What can you do right at home? Find out: Register today by emailing SM.FS.Midewin_RSVP@usda.gov or calling (815) 423-6370. VIRTUAL program: Closed Captioning will be provided.
X-ALT-DESC;FMTTYPE=text/html:The USDA estimates that more than 150 food crops in the U.S. depend on pollinators\, including almost all fruit and grain crops. Crops dependent on pollination are worth more than $10 billion per year. Celebrate Pollinator Week and hear about what the Illinois Department of Transportation and the Illinois Route 66 Scenic Byway groups are doing to help increase habitat for monarchs. How can you get involved? What can you do right at home? Find out: Register today by emailing SM.FS.Midewin_RSVP@usda.gov or calling (815) 423-6370. VIRTUAL program: Closed Captioning will be provided.
LOCATION:Midewin National Tallgrass Prairie Virtual
UID:e.771.3629
SEQUENCE:3
DTSTAMP:20260419T211636Z
URL:https://business.kankakeecountychamber.com/events/details/pollinator-week-program-increasing-habitat-for-monarchs-3629
END:VEVENT

END:VCALENDAR
