BEGIN:VCALENDAR
VERSION:2.0
PRODID:-//ChamberMaster//Event Calendar 2.0//EN
METHOD:PUBLISH
X-PUBLISHED-TTL:P3D
REFRESH-INTERVAL:P3D
CALSCALE:GREGORIAN
BEGIN:VEVENT
DTSTART:20191015T230000Z
DTEND:20191016T000000Z
X-MICROSOFT-CDO-ALLDAYEVENT:FALSE
SUMMARY:Q&A Forum
DESCRIPTION:Who is the IDEAL YOU? Smarter eating\, smarter choices\, smarter lifestyle living! Join our Q&A Forum hosted on Tuesday\, October 15 at 6:00pm to discover how you can become your IDEAL YOU!\n\nIf you have not heard of Ideal Solution Weight Loss and the benefits of a MEDICALLY SUPERVISED\, COACH CERTIFIED Weight Loss and Wellness Protocol\, then this is the forum for you! \n\nCALL NOW to reserve a seat for yourself and a friend or loved one! (815)304-4665
X-ALT-DESC;FMTTYPE=text/html:<span style="background-color:rgb(255\, 255\, 255)\; color:rgb(29\, 33\, 41)\; font-family:helvetica\,arial\,sans-serif\; font-size:14px">Who is the IDEAL YOU? Smarter eating\, smarter choices\, smarter lifestyle living! Join our Q&amp\;A Forum hosted on Tuesday\, October 15 at 6:00pm to discover how you can become your IDEAL YOU!</span><br />\n<span style="background-color:rgb(255\, 255\, 255)\; color:rgb(29\, 33\, 41)\; font-family:helvetica\,arial\,sans-serif\; font-size:14px">If you have not heard of Ideal Solution Weight Loss and the benefits of a MEDICALLY SUPERVISED\, COACH CERTIFIED Weight Loss and Wellness Protocol\, then this is the forum for you! </span><br />\n<span style="background-color:rgb(255\, 255\, 255)\; color:rgb(29\, 33\, 41)\; font-family:helvetica\,arial\,sans-serif\; font-size:14px">CALL NOW to reserve a seat for yourself and a friend or loved one! (815)304-4665</span>
LOCATION:Ideal Solution Weight Loss 805 N. Kennedy Dr. Ste B Kankakee\, IL 60901
UID:e.771.2975
SEQUENCE:3
DTSTAMP:20260423T003638Z
URL:https://business.kankakeecountychamber.com/events/details/q-a-forum-10-15-2019-2975
END:VEVENT

END:VCALENDAR
