BEGIN:VCALENDAR
VERSION:2.0
PRODID:-//ChamberMaster//Event Calendar 2.0//EN
METHOD:PUBLISH
X-PUBLISHED-TTL:P3D
REFRESH-INTERVAL:P3D
CALSCALE:GREGORIAN
BEGIN:VEVENT
DTSTART:20191204T000000Z
DTEND:20191204T010000Z
X-MICROSOFT-CDO-ALLDAYEVENT:FALSE
SUMMARY:Q&A Forum
DESCRIPTION:SAVE THE DATE!!\n\nOctober 1   December 31\, 2019\n\nSecure your Health\, Vitality\, and Weight Loss journey for this upcoming Holiday Season!\n\nEnroll with Ideal Solution Weight Loss ANYTIME from October 1   December 31\, 2019\n\nand receive 25% off of your "Lifetime Membership"!\n\nSchedule to start your program NOW or schedule to start in January 2020 to prepare for that New Year's Eve Party\, next year's cruise\, or simply to wear those shorts next spring!\n\nDon't let this holiday season determine your health for the next year to come!\n\n \n\nIdeal Solution Weight Loss\n\n805 N. Kennedy Dr. Ste B\n\nKankakee\, IL 60901\n\n815-304-4665\n\n \n\n*Valid October 1   December 31\, 2019*\n\n**Results may vary per individual.**
X-ALT-DESC;FMTTYPE=text/html:<p style="text-align: center\;"><strong>SAVE THE DATE!!</strong></p>\n\n<p style="text-align: center\;"><strong>October 1 &ndash\; December 31\, 2019</strong></p>\n\n<p style="text-align: center\;">Secure your Health\, Vitality\, and Weight Loss journey for this upcoming Holiday Season!</p>\n\n<p style="text-align: center\;">Enroll with <strong>Ideal Solution Weight Loss</strong> <strong>ANYTIME</strong> from&nbsp\;<strong>October 1 &ndash\; December 31\, 2019<br />\nand receive 25% off of your&nbsp\;</strong>&ldquo\;<strong>Lifetime Membership&rdquo\;!</strong></p>\n\n<p style="text-align: center\;"><strong>S</strong>chedule to start your program <strong>NOW</strong> or <strong>schedule to start in January 2020</strong> to prepare for that New Year&#39\;s Eve Party\, next year&#39\;s cruise\, or simply to wear those shorts next spring!</p>\n\n<p style="text-align: center\;"><strong>Don&#39\;t let this holiday season determine your health for the next year to come!</strong></p>\n\n<p style="text-align: center\;">&nbsp\;</p>\n\n<p style="text-align: center\;"><strong>Ideal Solution Weight Loss</strong></p>\n\n<p style="text-align: center\;"><strong>805 N. Kennedy Dr. Ste B</strong></p>\n\n<p style="text-align: center\;"><strong>Kankakee\, IL 60901</strong></p>\n\n<p style="text-align: center\;"><strong>815-304-4665</strong></p>\n\n<p style="text-align: center\;">&nbsp\;</p>\n\n<p style="text-align: center\;"><strong>*Valid October 1 &ndash\; December 31\, 2019*</strong></p>\n\n<p style="text-align: center\;">**Results may vary per individual.**</p>\n
LOCATION:Ideal Solution Weight Loss 805 N. Kennedy Dr. Ste B Kankakee\, IL 60901
UID:e.771.2977
SEQUENCE:3
DTSTAMP:20260422T221325Z
URL:https://business.kankakeecountychamber.com/events/details/q-a-forum-12-10-2019-2977
END:VEVENT

END:VCALENDAR
