BEGIN:VCALENDAR
VERSION:2.0
PRODID:-//ChamberMaster//Event Calendar 2.0//EN
METHOD:PUBLISH
X-PUBLISHED-TTL:P3D
REFRESH-INTERVAL:P3D
CALSCALE:GREGORIAN
BEGIN:VEVENT
DTSTART:20191110T010000Z
DTEND:20191110T040000Z
X-MICROSOFT-CDO-ALLDAYEVENT:FALSE
SUMMARY:Reason for the Legion
DESCRIPTION:Benefit concert by The Silhouettes to raise money for the repair and rehabilitation of the historic Bradley American Legion Post. Saturday\, Nov. 9. Doors open at 7 p.m. Concert form 8-10 p.m. Quality Inn\, 800 N. Kinzie\, Bradley. Cash bar. Food available for purchase at Oliver's. Split the pot. Tickets available at Quality Inn\, at the door\, King Music and WVLI. $100 raffle tickets with a $15\,000 prize also sold at the event. There is a limit of 300 of the $100 tickets. For more information\, 815-933-9287 weekdays 9 a.m.-5 p.m.
X-ALT-DESC;FMTTYPE=text/html:Benefit concert by The Silhouettes to raise money for the repair and rehabilitation of the historic Bradley American Legion Post. Saturday\, Nov. 9. Doors open at 7 p.m. Concert form 8-10 p.m. Quality Inn\, 800 N. Kinzie\, Bradley. Cash bar. Food available for purchase at Oliver&#39\;s. Split the pot. Tickets available at Quality Inn\, at the door\, King Music and WVLI. $100 raffle tickets with a $15\,000 prize also sold at the event. There is a limit of 300 of the $100 tickets. For more information\, 815-933-9287 weekdays 9 a.m.-5 p.m.
LOCATION:Quality Inn\, 800 N. Kinzie\, Bradley
UID:e.771.3012
SEQUENCE:3
DTSTAMP:20260422T232617Z
URL:https://business.kankakeecountychamber.com/events/details/reason-for-the-legion-3012
END:VEVENT

END:VCALENDAR
